BEGIN:VCALENDAR
VERSION:2.0
PRODID:-//eventon.com NONSGML v1.0//EN
CALSCALE:GREGORIAN
METHOD:PUBLISH
BEGIN:VEVENT
UID:69e5273727dea
DTSTAMP:20260419T210423
DTSTART:20260522T131000Z
DTEND:20260522T155500Z
TZID:Europe/Zagreb
LOCATION:
SUMMARY:Kemija bez filtera (radionica 154)
DESCRIPTION:Znanje + Kreativnost = STEM Inspiracija\nhttps://cjelozivotno-fkit-hdki.hr/events/kemija-bez-filtera-radionica-154/
URL:https://cjelozivotno-fkit-hdki.hr/events/kemija-bez-filtera-radionica-154/
END:VEVENT
END:VCALENDAR