BEGIN:VCALENDAR
VERSION:2.0
PRODID:-//eventon.com NONSGML v1.0//EN
CALSCALE:GREGORIAN
METHOD:PUBLISH
BEGIN:VEVENT
UID:69e53f9640df1
DTSTAMP:20260419T224822
DTSTART:20260522T122000Z
DTEND:20260522T150500Z
TZID:Europe/Zagreb
LOCATION:
SUMMARY:Mala škola velikih pokusa (radionica 153)
DESCRIPTION:Znanje + Kreativnost = STEM Inspiracija\nhttps://cjelozivotno-fkit-hdki.hr/events/mala-skola-velikih-pokusa-radionica-153/
URL:https://cjelozivotno-fkit-hdki.hr/events/mala-skola-velikih-pokusa-radionica-153/
END:VEVENT
END:VCALENDAR