BEGIN:VCALENDAR
VERSION:2.0
PRODID:-//eventon.com NONSGML v1.0//EN
CALSCALE:GREGORIAN
METHOD:PUBLISH
BEGIN:VEVENT
UID:69e50eeae4829
DTSTAMP:20260419T192042
DTSTART:20260522T100000Z
DTEND:20260522T124500Z
TZID:Europe/Zagreb
LOCATION:
SUMMARY:Mala škola velikih pokusa (radionica 152)
DESCRIPTION:Znanje + Kreativnost = STEM Inspiracija\nhttps://cjelozivotno-fkit-hdki.hr/events/mala-skola-velikih-pokusa-radionica-152/
URL:https://cjelozivotno-fkit-hdki.hr/events/mala-skola-velikih-pokusa-radionica-152/
END:VEVENT
END:VCALENDAR