BEGIN:VCALENDAR
VERSION:2.0
PRODID:-//eventon.com NONSGML v1.0//EN
CALSCALE:GREGORIAN
METHOD:PUBLISH
BEGIN:VEVENT
UID:69e53e6101f49
DTSTAMP:20260419T224313
DTSTART:20260519T153000Z
DTEND:20260519T181500Z
TZID:Europe/Zagreb
LOCATION:
SUMMARY:Vode koje nas okružuju i kako ih zaštiti (radionica 151)
DESCRIPTION:Znanje + Kreativnost = STEM Inspiracija\nhttps://cjelozivotno-fkit-hdki.hr/events/vode-koje-nas-okruzuju-i-kako-ih-zastiti-radionica-151/
URL:https://cjelozivotno-fkit-hdki.hr/events/vode-koje-nas-okruzuju-i-kako-ih-zastiti-radionica-151/
END:VEVENT
END:VCALENDAR