BEGIN:VCALENDAR
VERSION:2.0
PRODID:-//eventon.com NONSGML v1.0//EN
CALSCALE:GREGORIAN
METHOD:PUBLISH
BEGIN:VEVENT
UID:69e50f31b084a
DTSTAMP:20260419T192153
DTSTART:20260519T143000Z
DTEND:20260519T171500Z
TZID:Europe/Zagreb
LOCATION:
SUMMARY:Vode koje nas okružuju i kako ih zaštiti (radionica 150)
DESCRIPTION:Znanje + Kreativnost = STEM Inspiracija\nhttps://cjelozivotno-fkit-hdki.hr/events/vode-koje-nas-okruzuju-i-kako-ih-zastiti-radionica-150/
URL:https://cjelozivotno-fkit-hdki.hr/events/vode-koje-nas-okruzuju-i-kako-ih-zastiti-radionica-150/
END:VEVENT
END:VCALENDAR