BEGIN:VCALENDAR
VERSION:2.0
PRODID:-//eventon.com NONSGML v1.0//EN
CALSCALE:GREGORIAN
METHOD:PUBLISH
BEGIN:VEVENT
UID:69e54008ccdc1
DTSTAMP:20260419T225016
DTSTART:20260514T140000Z
DTEND:20260514T164500Z
TZID:Europe/Zagreb
LOCATION:
SUMMARY:Anomalija vode (radionica 149)
DESCRIPTION:Znanje + Kreativnost = STEM Inspiracija\nhttps://cjelozivotno-fkit-hdki.hr/events/anomalija-vode-radionica-149/
URL:https://cjelozivotno-fkit-hdki.hr/events/anomalija-vode-radionica-149/
END:VEVENT
END:VCALENDAR