BEGIN:VCALENDAR
VERSION:2.0
PRODID:-//eventon.com NONSGML v1.0//EN
CALSCALE:GREGORIAN
METHOD:PUBLISH
BEGIN:VEVENT
UID:69e50f0d36242
DTSTAMP:20260419T192117
DTSTART:20260512T153000Z
DTEND:20260512T181500Z
TZID:Europe/Zagreb
LOCATION:
SUMMARY:Kapljica znanja: edukacija o vodi (radionica 148)
DESCRIPTION:Znanje + Kreativnost = STEM Inspiracija\nhttps://cjelozivotno-fkit-hdki.hr/events/kapljica-znanja-edukacija-o-vodi-radionica-148/
URL:https://cjelozivotno-fkit-hdki.hr/events/kapljica-znanja-edukacija-o-vodi-radionica-148/
END:VEVENT
END:VCALENDAR