BEGIN:VCALENDAR
VERSION:2.0
PRODID:-//eventon.com NONSGML v1.0//EN
CALSCALE:GREGORIAN
METHOD:PUBLISH
BEGIN:VEVENT
UID:69e50f5216a64
DTSTAMP:20260419T192226
DTSTART:20260512T130500Z
DTEND:20260512T155500Z
TZID:Europe/Zagreb
LOCATION:
SUMMARY:Procesi pročišćavanja vode (radionica 146)
DESCRIPTION:Znanje + Kreativnost = STEM Inspiracija\nhttps://cjelozivotno-fkit-hdki.hr/events/procesi-prociscavanja-vode-radionica-146/
URL:https://cjelozivotno-fkit-hdki.hr/events/procesi-prociscavanja-vode-radionica-146/
END:VEVENT
END:VCALENDAR