BEGIN:VCALENDAR
VERSION:2.0
PRODID:-//eventon.com NONSGML v1.0//EN
CALSCALE:GREGORIAN
METHOD:PUBLISH
BEGIN:VEVENT
UID:69e53fd8e2c5b
DTSTAMP:20260419T224928
DTSTART:20260512T113000Z
DTEND:20260512T141500Z
TZID:Europe/Zagreb
LOCATION:
SUMMARY:Anomalija vode (radionica 145)
DESCRIPTION:Znanje + Kreativnost = STEM Inspiracija\nhttps://cjelozivotno-fkit-hdki.hr/events/anomalija-vode-radionica-145/
URL:https://cjelozivotno-fkit-hdki.hr/events/anomalija-vode-radionica-145/
END:VEVENT
END:VCALENDAR