BEGIN:VCALENDAR
VERSION:2.0
PRODID:-//eventon.com NONSGML v1.0//EN
CALSCALE:GREGORIAN
METHOD:PUBLISH
BEGIN:VEVENT
UID:69e5276584976
DTSTAMP:20260419T210509
DTSTART:20260511T133000Z
DTEND:20260511T161500Z
TZID:Europe/Zagreb
LOCATION:
SUMMARY:Procesi pročišćavanja vode (radionica 144)
DESCRIPTION:Znanje + Kreativnost = STEM Inspiracija\nhttps://cjelozivotno-fkit-hdki.hr/events/procesi-prociscavanja-vode-radionica-144/
URL:https://cjelozivotno-fkit-hdki.hr/events/procesi-prociscavanja-vode-radionica-144/
END:VEVENT
END:VCALENDAR