BEGIN:VCALENDAR
VERSION:2.0
PRODID:-//eventon.com NONSGML v1.0//EN
CALSCALE:GREGORIAN
METHOD:PUBLISH
BEGIN:VEVENT
UID:69e527a497d69
DTSTAMP:20260419T210612
DTSTART:20260511T123000Z
DTEND:20260511T151500Z
TZID:Europe/Zagreb
LOCATION:
SUMMARY:Anomalija vode (radionica 143)
DESCRIPTION:Znanje + Kreativnost = STEM Inspiracija\nhttps://cjelozivotno-fkit-hdki.hr/events/anomalija-vode-radionica-143/
URL:https://cjelozivotno-fkit-hdki.hr/events/anomalija-vode-radionica-143/
END:VEVENT
END:VCALENDAR