BEGIN:VCALENDAR
VERSION:2.0
PRODID:-//eventon.com NONSGML v1.0//EN
CALSCALE:GREGORIAN
METHOD:PUBLISH
BEGIN:VEVENT
UID:69e54008d345f
DTSTAMP:20260419T225016
DTSTART:20260505T141500Z
DTEND:20260505T170000Z
TZID:Europe/Zagreb
LOCATION:
SUMMARY:Čokolada je ipak zdrava – odredi željezo u čokoladi (radionica 142)
DESCRIPTION:Znanje + Kreativnost = STEM Inspiracija\nhttps://cjelozivotno-fkit-hdki.hr/events/cokolada-je-ipak-zdrava-odredi-zeljezo-u-cokoladi-radionica-142/
URL:https://cjelozivotno-fkit-hdki.hr/events/cokolada-je-ipak-zdrava-odredi-zeljezo-u-cokoladi-radionica-142/
END:VEVENT
END:VCALENDAR