BEGIN:VCALENDAR
VERSION:2.0
PRODID:-//eventon.com NONSGML v1.0//EN
CALSCALE:GREGORIAN
METHOD:PUBLISH
BEGIN:VEVENT
UID:69e50fe431bf2
DTSTAMP:20260419T192452
DTSTART:20260505T131500Z
DTEND:20260505T160000Z
TZID:Europe/Zagreb
LOCATION:
SUMMARY:Mala škola velikih pokusa (radionica 141)
DESCRIPTION:Znanje + Kreativnost = STEM Inspiracija\nhttps://cjelozivotno-fkit-hdki.hr/events/mala-skola-velikih-pokusa-radionica-141/
URL:https://cjelozivotno-fkit-hdki.hr/events/mala-skola-velikih-pokusa-radionica-141/
END:VEVENT
END:VCALENDAR