BEGIN:VCALENDAR
VERSION:2.0
PRODID:-//eventon.com NONSGML v1.0//EN
CALSCALE:GREGORIAN
METHOD:PUBLISH
BEGIN:VEVENT
UID:69e50f6a98b4b
DTSTAMP:20260419T192250
DTSTART:20260421T114500Z
DTEND:20260421T143000Z
TZID:Europe/Zagreb
LOCATION:
SUMMARY:Mali znanstvenici u akciji (radionica 136)
DESCRIPTION:Znanje + Kreativnost = STEM Inspiracija\nhttps://cjelozivotno-fkit-hdki.hr/events/mali-znanstvenici-u-akciji-radionica-136/
URL:https://cjelozivotno-fkit-hdki.hr/events/mali-znanstvenici-u-akciji-radionica-136/
END:VEVENT
END:VCALENDAR